BEGIN:VCALENDAR
VERSION:2.0
PRODID:-// - ECPv5.12.4//NONSGML v1.0//EN
CALSCALE:GREGORIAN
METHOD:PUBLISH
X-ORIGINAL-URL:https://www.feuerwehr-broeckingen.com
X-WR-CALDESC:Events for 
REFRESH-INTERVAL;VALUE=DURATION:PT1H
X-Robots-Tag:noindex
X-PUBLISHED-TTL:PT1H
BEGIN:VTIMEZONE
TZID:Europe/Berlin
BEGIN:DAYLIGHT
TZOFFSETFROM:+0100
TZOFFSETTO:+0200
TZNAME:CEST
DTSTART:20220327T010000
END:DAYLIGHT
BEGIN:STANDARD
TZOFFSETFROM:+0200
TZOFFSETTO:+0100
TZNAME:CET
DTSTART:20221030T010000
END:STANDARD
END:VTIMEZONE
BEGIN:VEVENT
DTSTART;TZID=Europe/Berlin:20220221T193000
DTEND;TZID=Europe/Berlin:20220221T213000
DTSTAMP:20260423T191503
CREATED:20220218T080428Z
LAST-MODIFIED:20220218T080428Z
UID:623-1645471800-1645479000@www.feuerwehr-broeckingen.com
SUMMARY:Bewegungsfahrten
DESCRIPTION:
URL:https://www.feuerwehr-broeckingen.com/event/bewegungsfahrten/
END:VEVENT
END:VCALENDAR