BEGIN:VCALENDAR
VERSION:2.0
PRODID:-// - ECPv5.12.4//NONSGML v1.0//EN
CALSCALE:GREGORIAN
METHOD:PUBLISH
X-ORIGINAL-URL:https://www.feuerwehr-broeckingen.com
X-WR-CALDESC:Events for 
REFRESH-INTERVAL;VALUE=DURATION:PT1H
X-Robots-Tag:noindex
X-PUBLISHED-TTL:PT1H
BEGIN:VTIMEZONE
TZID:Europe/Berlin
BEGIN:DAYLIGHT
TZOFFSETFROM:+0100
TZOFFSETTO:+0200
TZNAME:CEST
DTSTART:20220327T010000
END:DAYLIGHT
BEGIN:STANDARD
TZOFFSETFROM:+0200
TZOFFSETTO:+0100
TZNAME:CET
DTSTART:20221030T010000
END:STANDARD
END:VTIMEZONE
BEGIN:VEVENT
DTSTART;TZID=Europe/Berlin:20220212T193000
DTEND;TZID=Europe/Berlin:20220212T213000
DTSTAMP:20260423T175954
CREATED:20220218T081404Z
LAST-MODIFIED:20220218T081404Z
UID:635-1644694200-1644701400@www.feuerwehr-broeckingen.com
SUMMARY:Übung Führungsgruppe
DESCRIPTION:
URL:https://www.feuerwehr-broeckingen.com/event/uebung-fuehrungsgruppe-2/
END:VEVENT
BEGIN:VEVENT
DTSTART;TZID=Europe/Berlin:20220216T193000
DTEND;TZID=Europe/Berlin:20220216T213000
DTSTAMP:20260423T175954
CREATED:20220216T103950Z
LAST-MODIFIED:20220216T103950Z
UID:613-1645039800-1645047000@www.feuerwehr-broeckingen.com
SUMMARY:Zugübung 19:30
DESCRIPTION:
URL:https://www.feuerwehr-broeckingen.com/event/zuguebung-1930/
END:VEVENT
BEGIN:VEVENT
DTSTART;TZID=Europe/Berlin:20220221T193000
DTEND;TZID=Europe/Berlin:20220221T213000
DTSTAMP:20260423T175954
CREATED:20220218T080428Z
LAST-MODIFIED:20220218T080428Z
UID:623-1645471800-1645479000@www.feuerwehr-broeckingen.com
SUMMARY:Bewegungsfahrten
DESCRIPTION:
URL:https://www.feuerwehr-broeckingen.com/event/bewegungsfahrten/
END:VEVENT
BEGIN:VEVENT
DTSTART;TZID=Europe/Berlin:20220226T193000
DTEND;TZID=Europe/Berlin:20220226T213000
DTSTAMP:20260423T175954
CREATED:20220218T080609Z
LAST-MODIFIED:20220218T080609Z
UID:625-1645903800-1645911000@www.feuerwehr-broeckingen.com
SUMMARY:Zugübung
DESCRIPTION:
URL:https://www.feuerwehr-broeckingen.com/event/zuguebung/
END:VEVENT
BEGIN:VEVENT
DTSTART;TZID=Europe/Berlin:20220228T193000
DTEND;TZID=Europe/Berlin:20220228T213000
DTSTAMP:20260423T175954
CREATED:20220218T080739Z
LAST-MODIFIED:20220218T080739Z
UID:627-1646076600-1646083800@www.feuerwehr-broeckingen.com
SUMMARY:Atemschutzübung
DESCRIPTION:
URL:https://www.feuerwehr-broeckingen.com/event/atemschutzuebung/
END:VEVENT
END:VCALENDAR