BEGIN:VCALENDAR
VERSION:2.0
PRODID:-// - ECPv5.12.4//NONSGML v1.0//EN
CALSCALE:GREGORIAN
METHOD:PUBLISH
X-ORIGINAL-URL:https://www.feuerwehr-broeckingen.com
X-WR-CALDESC:Events for 
REFRESH-INTERVAL;VALUE=DURATION:PT1H
X-Robots-Tag:noindex
X-PUBLISHED-TTL:PT1H
BEGIN:VTIMEZONE
TZID:Europe/Berlin
BEGIN:DAYLIGHT
TZOFFSETFROM:+0100
TZOFFSETTO:+0200
TZNAME:CEST
DTSTART:20220327T010000
END:DAYLIGHT
BEGIN:STANDARD
TZOFFSETFROM:+0200
TZOFFSETTO:+0100
TZNAME:CET
DTSTART:20221030T010000
END:STANDARD
END:VTIMEZONE
BEGIN:VEVENT
DTSTART;TZID=Europe/Berlin:20220304T193000
DTEND;TZID=Europe/Berlin:20220304T213000
DTSTAMP:20260423T164236
CREATED:20220218T080834Z
LAST-MODIFIED:20220218T080834Z
UID:629-1646422200-1646429400@www.feuerwehr-broeckingen.com
SUMMARY:Zugübung
DESCRIPTION:
URL:https://www.feuerwehr-broeckingen.com/event/zuguebung-2/
END:VEVENT
BEGIN:VEVENT
DTSTART;TZID=Europe/Berlin:20220307T193000
DTEND;TZID=Europe/Berlin:20220307T213000
DTSTAMP:20260423T164236
CREATED:20220218T080927Z
LAST-MODIFIED:20220218T080927Z
UID:631-1646681400-1646688600@www.feuerwehr-broeckingen.com
SUMMARY:Maschinistenübung
DESCRIPTION:
URL:https://www.feuerwehr-broeckingen.com/event/maschinistenuebung/
END:VEVENT
BEGIN:VEVENT
DTSTART;TZID=Europe/Berlin:20220312T190000
DTEND;TZID=Europe/Berlin:20220312T210000
DTSTAMP:20260423T164236
CREATED:20220218T081138Z
LAST-MODIFIED:20220218T081138Z
UID:633-1647111600-1647118800@www.feuerwehr-broeckingen.com
SUMMARY:Hauptversammlung 2022
DESCRIPTION:
URL:https://www.feuerwehr-broeckingen.com/event/hauptversammlung-2022/
LOCATION:Magazin Gaildorf
END:VEVENT
END:VCALENDAR